



BEGIN:VCALENDAR
VERSION:2.0
PRODID:-//NahverkehrsPraxis - ECPv5.1.2//NONSGML v1.0//EN
CALSCALE:GREGORIAN
METHOD:PUBLISH
X-WR-CALNAME:NahverkehrsPraxis
X-ORIGINAL-URL:https://www.nahverkehrspraxis.de
X-WR-CALDESC:Veranstaltungen für NahverkehrsPraxis
BEGIN:VTIMEZONE
TZID:UTC
BEGIN:STANDARD
TZOFFSETFROM:+0000
TZOFFSETTO:+0000
TZNAME:UTC
DTSTART:20260101T000000
END:STANDARD
END:VTIMEZONE
BEGIN:VEVENT
DTSTART;TZID=UTC:20260930T000000
DTEND;TZID=UTC:20260930T235959
DTSTAMP:20260424T092608
CREATED:20260121T161352Z
LAST-MODIFIED:20260331T102120Z
UID:67317-1790726400-1790812799@www.nahverkehrspraxis.de
SUMMARY:9. Regionalkonferenz Mobilitätswende
DESCRIPTION:\n\n\n \n\n\n\n\n\n\n\n\n\n\n\n\n\nAuf der jährlichen Regionalkonferenz Mobilitätswende\, einem gemeinsamen Projekt der TechnologieRegion Karlsruhe und der Metropolregion Rhein-Neckar\, erhalten Sie in moderierten Talkrunden\, Impulsvorträgen und Fachforen Einblicke darüber\, wie Digitalisierung\, Radverkehr und innovative Infrastrukturen nachhaltig zu einer Mobilitätswende beitragen können. \n\n\n\n\nWeitere Informationen\n\nÄhnliche Beiträge:ZNM feiert zehn Jahre Engagement für MobilitätswendeKI und Nachhaltigkeit prägen Regionalkonferenz…Verbände fordern echte Mobilitätswende statt GreenwashingMobilitätswende auf Kurs: VAG punktet mit E-Mobilität8. Regionalkonferenz MobilitätswendeWeichen stellen für die Mobilitätswende
URL:https://www.nahverkehrspraxis.de/event/9-regionalkonferenz-mobilitaetswende/
ATTACH;FMTTYPE=image/png:https://www.nahverkehrspraxis.de/wp-content/uploads/2026/01/m-r-n-logo-klein.png
END:VEVENT
END:VCALENDAR