



BEGIN:VCALENDAR
VERSION:2.0
PRODID:-//NahverkehrsPraxis - ECPv5.1.2//NONSGML v1.0//EN
CALSCALE:GREGORIAN
METHOD:PUBLISH
X-WR-CALNAME:NahverkehrsPraxis
X-ORIGINAL-URL:https://www.nahverkehrspraxis.de
X-WR-CALDESC:Veranstaltungen für NahverkehrsPraxis
BEGIN:VTIMEZONE
TZID:UTC
BEGIN:STANDARD
TZOFFSETFROM:+0000
TZOFFSETTO:+0000
TZNAME:UTC
DTSTART:20260101T000000
END:STANDARD
END:VTIMEZONE
BEGIN:VEVENT
DTSTART;TZID=UTC:20260915T000000
DTEND;TZID=UTC:20260920T235959
DTSTAMP:20260424T062822
CREATED:20260121T145219Z
LAST-MODIFIED:20260121T145221Z
UID:67290-1789430400-1789948799@www.nahverkehrspraxis.de
SUMMARY:IAA Transportation
DESCRIPTION:\n\n\n \n\n\n\n\n\n\n\n\n\n\n\n\n\nAls wichtigste internationale Leitplattform für die Nutzfahrzeug-\, Transport- und Logistikindustrie bringt die IAA TRANSPORTATION die entscheidenden Akteure der Branche zusammen: Nutzfahrzeug- und Bushersteller\, Aufbauten- und Anhängerproduzenten\, Unternehmen aus der Mikromobilität\, Lastenfahrrad- und Kleinfahrzeuganbieter\, Zulieferer\, Technologieanbieter\, Dienstleister und Start-ups. \n\n\n\n\nWeitere Informationen\n\nÄhnliche Beiträge:IAA im Gegenwind: VCD fordert E-Mobilität und…Die Deutsche Bahn holt den Nahverkehr auf die IAA MobilityHitachi Rail übernimmt Ground Transportation Systems…
URL:https://www.nahverkehrspraxis.de/event/iaa-transportation/
ATTACH;FMTTYPE=image/png:https://www.nahverkehrspraxis.de/wp-content/uploads/2026/01/iaa-transportation-logo-2022-2-klein.png
END:VEVENT
END:VCALENDAR