



BEGIN:VCALENDAR
VERSION:2.0
PRODID:-//NahverkehrsPraxis - ECPv5.1.2//NONSGML v1.0//EN
CALSCALE:GREGORIAN
METHOD:PUBLISH
X-WR-CALNAME:NahverkehrsPraxis
X-ORIGINAL-URL:https://www.nahverkehrspraxis.de
X-WR-CALDESC:Veranstaltungen für NahverkehrsPraxis
BEGIN:VTIMEZONE
TZID:UTC
BEGIN:STANDARD
TZOFFSETFROM:+0000
TZOFFSETTO:+0000
TZNAME:UTC
DTSTART:20260101T000000
END:STANDARD
END:VTIMEZONE
BEGIN:VEVENT
DTSTART;TZID=UTC:20260429T000000
DTEND;TZID=UTC:20260429T235959
DTSTAMP:20260423T170812
CREATED:20260121T123643Z
LAST-MODIFIED:20260204T110822Z
UID:67271-1777420800-1777507199@www.nahverkehrspraxis.de
SUMMARY:6. NRW-Mobilitätsforum 2026
DESCRIPTION:\n\n\n \n\n\n\n\n\n\n\n\n\n\n\n\n\nDas NRW-Mobilitätsforum bietet 2026 erneut die Gelegenheit zum fachlichen Austausch zwischen Impulsgeber*innen\, Entscheidungsträger*innen und Akteur*innen der Branche. Gemeinsam loten sie Perspektiven für eine nachhaltige\, sozial gerechte und finanzierbare Mobilität aus – im Rahmen des etablierten Formats der NRW-Aufgabenträger für den Schienenpersonennahverkehr: go.Rheinland\, Nahverkehr Westfalen-Lippe und Verkehrsverbund Rhein-Ruhr. \n\n\n\n\nWeitere Informationen\n\nÄhnliche Beiträge:HUK-Mobilitätsstudie 2026: Rote Karte für die BahnDeutscher Nahverkehrstag 2026: Drei Tage…InnoTrans 2026 startet internationalen AI HackathonBus2Bus 2026 mit 13 Prozent Fachbesucherplus und…Eisenbahner/innen mit Herz 2026 ausgezeichnetBus2Bus 2026 in vollem Gange
URL:https://www.nahverkehrspraxis.de/event/nrw-mobilitaetsforum-2026/
ATTACH;FMTTYPE=image/png:https://www.nahverkehrspraxis.de/wp-content/uploads/2026/01/NRW-Mobiforum-klein.png
END:VEVENT
END:VCALENDAR